BEGIN:VCALENDAR
VERSION:2.0
PRODID:-//TGO Tischtennis - ECPv6.15.20//NONSGML v1.0//EN
CALSCALE:GREGORIAN
METHOD:PUBLISH
X-WR-CALNAME:TGO Tischtennis
X-ORIGINAL-URL:https://tischtennis.tg-oberjosbach.de
X-WR-CALDESC:Veranstaltungen für TGO Tischtennis
REFRESH-INTERVAL;VALUE=DURATION:PT1H
X-Robots-Tag:noindex
X-PUBLISHED-TTL:PT1H
BEGIN:VTIMEZONE
TZID:Europe/Berlin
BEGIN:DAYLIGHT
TZOFFSETFROM:+0100
TZOFFSETTO:+0200
TZNAME:CEST
DTSTART:20250330T010000
END:DAYLIGHT
BEGIN:STANDARD
TZOFFSETFROM:+0200
TZOFFSETTO:+0100
TZNAME:CET
DTSTART:20251026T010000
END:STANDARD
BEGIN:DAYLIGHT
TZOFFSETFROM:+0100
TZOFFSETTO:+0200
TZNAME:CEST
DTSTART:20260329T010000
END:DAYLIGHT
BEGIN:STANDARD
TZOFFSETFROM:+0200
TZOFFSETTO:+0100
TZNAME:CET
DTSTART:20261025T010000
END:STANDARD
BEGIN:DAYLIGHT
TZOFFSETFROM:+0100
TZOFFSETTO:+0200
TZNAME:CEST
DTSTART:20270328T010000
END:DAYLIGHT
BEGIN:STANDARD
TZOFFSETFROM:+0200
TZOFFSETTO:+0100
TZNAME:CET
DTSTART:20271031T010000
END:STANDARD
END:VTIMEZONE
BEGIN:VEVENT
DTSTART;TZID=Europe/Berlin:20260509T000000
DTEND;TZID=Europe/Berlin:20260509T180000
DTSTAMP:20260424T153949
CREATED:20260412T210500Z
LAST-MODIFIED:20260412T210500Z
UID:5940-1778284800-1778349600@tischtennis.tg-oberjosbach.de
SUMMARY:Halle geschlossen
DESCRIPTION:
URL:https://tischtennis.tg-oberjosbach.de/event/halle-geschlossen-241/
LOCATION:Theißtalschule
CATEGORIES:Ausfall
END:VEVENT
BEGIN:VEVENT
DTSTART;VALUE=DATE:20260620
DTEND;VALUE=DATE:20260622
DTSTAMP:20260424T153949
CREATED:20260313T070630Z
LAST-MODIFIED:20260313T070630Z
UID:5796-1781913600-1782086399@tischtennis.tg-oberjosbach.de
SUMMARY:7. Plüderhäuser Familienmannschaftsturnier
DESCRIPTION:Ausschreibung
URL:https://tischtennis.tg-oberjosbach.de/event/7-pluederhaeuser-familienmannschaftsturnier/
LOCATION:Plüderhausen
CATEGORIES:Turnier
END:VEVENT
END:VCALENDAR